BEGIN:VCALENDAR
VERSION:2.0
PRODID:-//Nikolaus-Schule - ECPv6.15.17.1//NONSGML v1.0//EN
CALSCALE:GREGORIAN
METHOD:PUBLISH
X-ORIGINAL-URL:https://nikolaus-grundschule.de
X-WR-CALDESC:Veranstaltungen für Nikolaus-Schule
REFRESH-INTERVAL;VALUE=DURATION:PT1H
X-Robots-Tag:noindex
X-PUBLISHED-TTL:PT1H
BEGIN:VTIMEZONE
TZID:Europe/Berlin
BEGIN:DAYLIGHT
TZOFFSETFROM:+0100
TZOFFSETTO:+0200
TZNAME:CEST
DTSTART:20240331T010000
END:DAYLIGHT
BEGIN:STANDARD
TZOFFSETFROM:+0200
TZOFFSETTO:+0100
TZNAME:CET
DTSTART:20241027T010000
END:STANDARD
BEGIN:DAYLIGHT
TZOFFSETFROM:+0100
TZOFFSETTO:+0200
TZNAME:CEST
DTSTART:20250330T010000
END:DAYLIGHT
BEGIN:STANDARD
TZOFFSETFROM:+0200
TZOFFSETTO:+0100
TZNAME:CET
DTSTART:20251026T010000
END:STANDARD
BEGIN:DAYLIGHT
TZOFFSETFROM:+0100
TZOFFSETTO:+0200
TZNAME:CEST
DTSTART:20260329T010000
END:DAYLIGHT
BEGIN:STANDARD
TZOFFSETFROM:+0200
TZOFFSETTO:+0100
TZNAME:CET
DTSTART:20261025T010000
END:STANDARD
END:VTIMEZONE
BEGIN:VEVENT
DTSTART;TZID=Europe/Berlin:20250711T083000
DTEND;TZID=Europe/Berlin:20250711T083000
DTSTAMP:20260422T165702
CREATED:20250325T112103Z
LAST-MODIFIED:20250325T112103Z
UID:2686-1752222600-1752222600@nikolaus-grundschule.de
SUMMARY:Ökumenischer Gottesdienst & Abschlussfeier
DESCRIPTION:
URL:https://nikolaus-grundschule.de/event/oekumenischer-gottesdienst-abschlussfeier/
CATEGORIES:Termin
END:VEVENT
BEGIN:VEVENT
DTSTART;TZID=Europe/Berlin:20250710T110000
DTEND;TZID=Europe/Berlin:20250710T110000
DTSTAMP:20260422T165702
CREATED:20250325T111904Z
LAST-MODIFIED:20250325T111904Z
UID:2685-1752145200-1752145200@nikolaus-grundschule.de
SUMMARY:Urkundenverleihung
DESCRIPTION:
URL:https://nikolaus-grundschule.de/event/urkundenverleihung/
CATEGORIES:Termin
END:VEVENT
BEGIN:VEVENT
DTSTART;TZID=Europe/Berlin:20250709T000000
DTEND;TZID=Europe/Berlin:20250709T235959
DTSTAMP:20260422T165702
CREATED:20250325T111903Z
LAST-MODIFIED:20250325T111903Z
UID:2684-1752019200-1752105599@nikolaus-grundschule.de
SUMMARY:Zeugnisausgabe
DESCRIPTION:
URL:https://nikolaus-grundschule.de/event/zeugnisausgabe/
CATEGORIES:Termin
END:VEVENT
BEGIN:VEVENT
DTSTART;TZID=Europe/Berlin:20250708T190000
DTEND;TZID=Europe/Berlin:20250708T190000
DTSTAMP:20260422T165702
CREATED:20250325T111903Z
LAST-MODIFIED:20250325T111903Z
UID:2683-1752001200-1752001200@nikolaus-grundschule.de
SUMMARY:Dankeschönfest
DESCRIPTION:
URL:https://nikolaus-grundschule.de/event/dankeschoenfest-2/
CATEGORIES:Termin
END:VEVENT
BEGIN:VEVENT
DTSTART;TZID=Europe/Berlin:20250707T000000
DTEND;TZID=Europe/Berlin:20250707T235959
DTSTAMP:20260422T165702
CREATED:20250325T111902Z
LAST-MODIFIED:20250325T111902Z
UID:2682-1751846400-1751932799@nikolaus-grundschule.de
SUMMARY:Fußballcup
DESCRIPTION:
URL:https://nikolaus-grundschule.de/event/fussballcup-2/
CATEGORIES:Termin
END:VEVENT
BEGIN:VEVENT
DTSTART;TZID=Europe/Berlin:20250705T000000
DTEND;TZID=Europe/Berlin:20250705T235959
DTSTAMP:20260422T165702
CREATED:20250325T111902Z
LAST-MODIFIED:20250325T111902Z
UID:2681-1751673600-1751759999@nikolaus-grundschule.de
SUMMARY:Zirkusaufführungen - Anwesenheitspflicht für alle
DESCRIPTION:
URL:https://nikolaus-grundschule.de/event/zirkusauffuehrungen-anwesenheitspflicht-fuer-alle/
CATEGORIES:Termin
END:VEVENT
BEGIN:VEVENT
DTSTART;TZID=Europe/Berlin:20250701T000000
DTEND;TZID=Europe/Berlin:20250704T235959
DTSTAMP:20260422T165702
CREATED:20250325T111756Z
LAST-MODIFIED:20250325T111756Z
UID:2680-1751328000-1751673599@nikolaus-grundschule.de
SUMMARY:Projektwoche: Kölner Spielecircus
DESCRIPTION:
URL:https://nikolaus-grundschule.de/event/projektwoche-koelner-spielecircus/
CATEGORIES:Termin
END:VEVENT
BEGIN:VEVENT
DTSTART;TZID=Europe/Berlin:20250630T090000
DTEND;TZID=Europe/Berlin:20250630T090000
DTSTAMP:20260422T165702
CREATED:20250325T111756Z
LAST-MODIFIED:20250430T092948Z
UID:2679-1751274000-1751274000@nikolaus-grundschule.de
SUMMARY:Schnupperstunde Schulneulinge
DESCRIPTION:
URL:https://nikolaus-grundschule.de/event/schnupperstunde-schulneulinge-2/
CATEGORIES:Termin
END:VEVENT
BEGIN:VEVENT
DTSTART;TZID=Europe/Berlin:20250628T100000
DTEND;TZID=Europe/Berlin:20250628T120000
DTSTAMP:20260422T165702
CREATED:20250325T111755Z
LAST-MODIFIED:20250325T111755Z
UID:2678-1751104800-1751112000@nikolaus-grundschule.de
SUMMARY:Schulrallye für Schulneulinge
DESCRIPTION:
URL:https://nikolaus-grundschule.de/event/schulrallye-fuer-schulneulinge/
CATEGORIES:Termin
END:VEVENT
BEGIN:VEVENT
DTSTART;TZID=Europe/Berlin:20250626T102500
DTEND;TZID=Europe/Berlin:20250626T102500
DTSTAMP:20260422T165702
CREATED:20250325T111755Z
LAST-MODIFIED:20250430T092840Z
UID:2677-1750933500-1750933500@nikolaus-grundschule.de
SUMMARY:Uhr Musik am Morgen (Bornheimer Musikschule) in der Aula
DESCRIPTION:
URL:https://nikolaus-grundschule.de/event/uhr-musik-am-morgen-bornheimer-musikschule-in-der-aula/
CATEGORIES:Termin
END:VEVENT
BEGIN:VEVENT
DTSTART;TZID=Europe/Berlin:20250625T150000
DTEND;TZID=Europe/Berlin:20250625T150000
DTSTAMP:20260422T165702
CREATED:20250325T111754Z
LAST-MODIFIED:20250325T111754Z
UID:2676-1750863600-1750863600@nikolaus-grundschule.de
SUMMARY:OGS & Schule: Präsentation der AGs in der Aula
DESCRIPTION:
URL:https://nikolaus-grundschule.de/event/ogs-schule-praesentation-der-ags-in-der-aula/
CATEGORIES:Termin
END:VEVENT
BEGIN:VEVENT
DTSTART;TZID=Europe/Berlin:20250620T000000
DTEND;TZID=Europe/Berlin:20250620T235959
DTSTAMP:20260422T165702
CREATED:20250325T111555Z
LAST-MODIFIED:20250325T111555Z
UID:2675-1750377600-1750463999@nikolaus-grundschule.de
SUMMARY:Beweglicher Ferientag / unterrichtsfrei / OGS: Betreuung ganztägig nach Anmeldung
DESCRIPTION:
URL:https://nikolaus-grundschule.de/event/beweglicher-ferientag-unterrichtsfrei-ogs-betreuung-ganztaegig-nach-anmeldung/
CATEGORIES:Termin
END:VEVENT
BEGIN:VEVENT
DTSTART;TZID=Europe/Berlin:20250619T000000
DTEND;TZID=Europe/Berlin:20250619T235959
DTSTAMP:20260422T165702
CREATED:20250325T111555Z
LAST-MODIFIED:20250325T111555Z
UID:2674-1750291200-1750377599@nikolaus-grundschule.de
SUMMARY:Fronleichnam (Feiertag) unterrichtsfrei
DESCRIPTION:
URL:https://nikolaus-grundschule.de/event/fronleichnam-feiertag-unterrichtsfrei/
CATEGORIES:Feiertag
END:VEVENT
BEGIN:VEVENT
DTSTART;TZID=Europe/Berlin:20250611T193000
DTEND;TZID=Europe/Berlin:20250611T193000
DTSTAMP:20260422T165702
CREATED:20250325T111555Z
LAST-MODIFIED:20250325T111555Z
UID:2673-1749670200-1749670200@nikolaus-grundschule.de
SUMMARY:Elternabend Schulneulinge
DESCRIPTION:
URL:https://nikolaus-grundschule.de/event/elternabend-schulneulinge/
CATEGORIES:Termin
END:VEVENT
BEGIN:VEVENT
DTSTART;TZID=Europe/Berlin:20250609T000000
DTEND;TZID=Europe/Berlin:20250610T235959
DTSTAMP:20260422T165702
CREATED:20250325T111554Z
LAST-MODIFIED:20250325T111554Z
UID:2672-1749427200-1749599999@nikolaus-grundschule.de
SUMMARY:Pfingsten
DESCRIPTION:
URL:https://nikolaus-grundschule.de/event/pfingsten/
CATEGORIES:Feiertag
END:VEVENT
BEGIN:VEVENT
DTSTART;TZID=Europe/Berlin:20250606T000000
DTEND;TZID=Europe/Berlin:20250606T235959
DTSTAMP:20260422T165702
CREATED:20250325T111554Z
LAST-MODIFIED:20250325T111554Z
UID:2671-1749168000-1749254399@nikolaus-grundschule.de
SUMMARY:Opferfest (islamischer Feiertag) Beurlaubung möglich
DESCRIPTION:
URL:https://nikolaus-grundschule.de/event/opferfest-islamischer-feiertag-beurlaubung-moeglich/
CATEGORIES:Feiertag
END:VEVENT
BEGIN:VEVENT
DTSTART;TZID=Europe/Berlin:20250602T193000
DTEND;TZID=Europe/Berlin:20250602T193000
DTSTAMP:20260422T165702
CREATED:20250325T111540Z
LAST-MODIFIED:20250325T111540Z
UID:2670-1748892600-1748892600@nikolaus-grundschule.de
SUMMARY:Zweite Schulkonferenz
DESCRIPTION:
URL:https://nikolaus-grundschule.de/event/zweite-schulkonferenz/
CATEGORIES:Konferenz
END:VEVENT
BEGIN:VEVENT
DTSTART;TZID=Europe/Berlin:20250529T000000
DTEND;TZID=Europe/Berlin:20250529T235959
DTSTAMP:20260422T165702
CREATED:20250325T111540Z
LAST-MODIFIED:20250325T111540Z
UID:2669-1748476800-1748563199@nikolaus-grundschule.de
SUMMARY:Christi Himmelfahrt
DESCRIPTION:
URL:https://nikolaus-grundschule.de/event/christi-himmelfahrt-2/
CATEGORIES:Feiertag
END:VEVENT
BEGIN:VEVENT
DTSTART;TZID=Europe/Berlin:20250528T125000
DTEND;TZID=Europe/Berlin:20250528T125000
DTSTAMP:20260422T165702
CREATED:20250325T111539Z
LAST-MODIFIED:20250325T111539Z
UID:2668-1748436600-1748436600@nikolaus-grundschule.de
SUMMARY:Sponsorenlauf – Unterrichtsende 12.50 Uhr
DESCRIPTION:
URL:https://nikolaus-grundschule.de/event/sponsorenlauf-unterrichtsende-12-50-uhr/
CATEGORIES:Termin
END:VEVENT
BEGIN:VEVENT
DTSTART;TZID=Europe/Berlin:20250526T000000
DTEND;TZID=Europe/Berlin:20250526T235959
DTSTAMP:20260422T165702
CREATED:20250325T111539Z
LAST-MODIFIED:20250325T111539Z
UID:2667-1748217600-1748303999@nikolaus-grundschule.de
SUMMARY:VERA Deutsch II (Rechtschreiben)
DESCRIPTION:
URL:https://nikolaus-grundschule.de/event/vera-deutsch-ii-rechtschreiben/
CATEGORIES:Termin
END:VEVENT
BEGIN:VEVENT
DTSTART;TZID=Europe/Berlin:20250519T000000
DTEND;TZID=Europe/Berlin:20250523T235959
DTSTAMP:20260422T165702
CREATED:20250325T111538Z
LAST-MODIFIED:20250325T111538Z
UID:2666-1747612800-1748044799@nikolaus-grundschule.de
SUMMARY:Radfahrtraining + Abschlussfahrt
DESCRIPTION:
URL:https://nikolaus-grundschule.de/event/radfahrtraining-abschlussfahrt/
CATEGORIES:Termin
END:VEVENT
BEGIN:VEVENT
DTSTART;TZID=Europe/Berlin:20250515T000000
DTEND;TZID=Europe/Berlin:20250515T235959
DTSTAMP:20260422T165702
CREATED:20250325T111525Z
LAST-MODIFIED:20250325T111525Z
UID:2665-1747267200-1747353599@nikolaus-grundschule.de
SUMMARY:VERA Mathematik
DESCRIPTION:
URL:https://nikolaus-grundschule.de/event/vera-mathematik/
CATEGORIES:Termin
END:VEVENT
BEGIN:VEVENT
DTSTART;TZID=Europe/Berlin:20250514T000000
DTEND;TZID=Europe/Berlin:20250514T235959
DTSTAMP:20260422T165702
CREATED:20250325T111525Z
LAST-MODIFIED:20250325T111525Z
UID:2664-1747180800-1747267199@nikolaus-grundschule.de
SUMMARY:VERA Deutsch I (Lesen)
DESCRIPTION:
URL:https://nikolaus-grundschule.de/event/vera-deutsch-i-lesen/
CATEGORIES:Termin
END:VEVENT
BEGIN:VEVENT
DTSTART;TZID=Europe/Berlin:20250512T170000
DTEND;TZID=Europe/Berlin:20250512T170000
DTSTAMP:20260422T165702
CREATED:20250325T111524Z
LAST-MODIFIED:20250325T111524Z
UID:2663-1747069200-1747069200@nikolaus-grundschule.de
SUMMARY:Infoabend Radfahrtraining in der Aula
DESCRIPTION:
URL:https://nikolaus-grundschule.de/event/infoabend-radfahrtraining-in-der-aula/
CATEGORIES:Termin
END:VEVENT
BEGIN:VEVENT
DTSTART;TZID=Europe/Berlin:20250505T083000
DTEND;TZID=Europe/Berlin:20250505T083000
DTSTAMP:20260422T165702
CREATED:20250325T111524Z
LAST-MODIFIED:20250325T111524Z
UID:2662-1746433800-1746433800@nikolaus-grundschule.de
SUMMARY:Lesende Schule
DESCRIPTION:
URL:https://nikolaus-grundschule.de/event/lesende-schule-2/
CATEGORIES:Termin
END:VEVENT
BEGIN:VEVENT
DTSTART;TZID=Europe/Berlin:20250502T000000
DTEND;TZID=Europe/Berlin:20250502T235959
DTSTAMP:20260422T165702
CREATED:20250325T111523Z
LAST-MODIFIED:20250325T111523Z
UID:2661-1746144000-1746230399@nikolaus-grundschule.de
SUMMARY:Giräffchen-Tag
DESCRIPTION:
URL:https://nikolaus-grundschule.de/event/giraeffchen-tag-2/
CATEGORIES:Termin
END:VEVENT
BEGIN:VEVENT
DTSTART;TZID=Europe/Berlin:20250501T000000
DTEND;TZID=Europe/Berlin:20250501T235959
DTSTAMP:20260422T165702
CREATED:20250325T111510Z
LAST-MODIFIED:20250325T111510Z
UID:2660-1746057600-1746143999@nikolaus-grundschule.de
SUMMARY:Tag der Arbeit (Feiertag) unterrichtsfrei
DESCRIPTION:
URL:https://nikolaus-grundschule.de/event/tag-der-arbeit-feiertag-unterrichtsfrei/
CATEGORIES:Feiertag
END:VEVENT
BEGIN:VEVENT
DTSTART;TZID=Europe/Berlin:20250409T083000
DTEND;TZID=Europe/Berlin:20250409T083000
DTSTAMP:20260422T165702
CREATED:20250325T111509Z
LAST-MODIFIED:20250325T111509Z
UID:2658-1744187400-1744187400@nikolaus-grundschule.de
SUMMARY:Lesende Schule
DESCRIPTION:
URL:https://nikolaus-grundschule.de/event/lesende-schule/
CATEGORIES:Termin
END:VEVENT
BEGIN:VEVENT
DTSTART;TZID=Europe/Berlin:20250407T000000
DTEND;TZID=Europe/Berlin:20250411T235959
DTSTAMP:20260422T165702
CREATED:20250325T111509Z
LAST-MODIFIED:20250325T111509Z
UID:2659-1743984000-1744415999@nikolaus-grundschule.de
SUMMARY:Lernentwicklungsgespräche
DESCRIPTION:
URL:https://nikolaus-grundschule.de/event/lernentwicklungsgespraeche-6/
CATEGORIES:Termin
END:VEVENT
BEGIN:VEVENT
DTSTART;TZID=Europe/Berlin:20250403T000000
DTEND;TZID=Europe/Berlin:20250404T235959
DTSTAMP:20260422T165702
CREATED:20250325T111508Z
LAST-MODIFIED:20250325T111508Z
UID:2657-1743638400-1743811199@nikolaus-grundschule.de
SUMMARY:Doppeltägige pädagogische Konferenz / OGS: Betreuung ganztägig nach Anmeldung
DESCRIPTION:
URL:https://nikolaus-grundschule.de/event/doppeltaegige-paedagogische-konferenz-ogs-betreuung-ganztaegig-nach-anmeldung/
CATEGORIES:Konferenz
END:VEVENT
END:VCALENDAR